Workbook

Sheet Sheet1
A1: 专业代码 | B1: 专业名称 | C1: 课程代码 | D1: 课程名称 | E1: 费用
A2: 080204 | B2: 机械电子工程（本科） | C2: 00421 | D2: 物理(工)(实践) | E2: 150
A3: 080204 | B3: 机械电子工程（本科） | C3: 02239 | D3: 模拟、数字及电力电子技术(实践) | E3: 150
A4: 080204 | B4: 机械电子工程（本科） | C4: 02203 | D4: 传感器与检测技术(实践) | E4: 150
A5: 080204 | B5: 机械电子工程（本科） | C5: 02242 | D5: 工业用微型计算机(实践) | E5: 150
A6: 080204 | B6: 机械电子工程（本科） | C6: 02244 | D6: 计算机软件基础(一)(实践) | E6: 150
A7: 080204 | B7: 机械电子工程（本科） | C7: 02201 | D7: 现代设计方法(实践) | E7: 150
A8: 080204 | B8: 机械电子工程（本科） | C8: 02246 | D8: 机电一体化系统设计(实践) | E8: 150
A9: 080204 | B9: 机械电子工程（本科） | C9: 02247 | D9: 机电一体化系统设计(设计) | E9: 150
A10: 080204 | B10: 机械电子工程（本科） | C10: 07999 | D10: 毕业设计 | E10: 400
A11: 560301 | B11: 机电一体化技术（专科） | C11: 02184 | D11: 机械制图（一）(实践) | E11: 150
A12: 560301 | B12: 机电一体化技术（专科） | C12: 02231 | D12: 机械制造（实践）（实践） | E12: 150
A13: 560301 | B13: 机电一体化技术（专科） | C13: 02233 | D13: 电工技术基础（实践） | E13: 150
A14: 560301 | B14: 机电一体化技术（专科） | C14: 02235 | D14: 电子技术基础（一）（实践） | E14: 150
A15: 560301 | B15: 机电一体化技术（专科） | C15: 02206 | D15: 微型计算机原理与接口技术（实践） | E15: 150
A16: 560301 | B16: 机电一体化技术（专科） | C16: 02196 | D16: 数控技术及应用（实践） | E16: 150
A17: 560301 | B17: 机电一体化技术（专科） | C17: 07555 | D17: 综合作业（一） | E17: 200

Sheet 报考样表
A1: 2022年上半年实践考核报名表
A2: 序号 | B2: 准考证 | C2: 姓名 | D2: 身份证号 | E2: 专业代码 | F2: 专业名称 | G2: 课程代码 | H2: 课程名称 | I2: 电话号码 | J2: 实践费 | K2: 办理自学考试论文（毕业设计）报名所需材料：
B3: 考生填写 | C3: 考生填写 | D3: 考生填写 | E3: 右下角下拉菜单选 | F3: 不用填写 | G3: 右下角下拉菜单选 | H3: 不用填写 | I3: 考生填写 | J3: 不用填写
A4: 1 | F4: =VLOOKUP(E4,Sheet1!A:B,2,FALSE) -> #N/A | H4: =VLOOKUP(G4,Sheet1!C:E,2,FALSE) -> #N/A | J4: =VLOOKUP(G4,Sheet1!C:E,3,FALSE) -> #N/A | K4: 1、学历认证表或电子备案表； | L4: 中国高等教育学生信息网（学信网）https://www.chsi.com.cn/打印“电子备案表”。
A5: 2 | F5: =VLOOKUP(E5,Sheet1!A:B,2,FALSE) -> #N/A | H5: =VLOOKUP(G5,Sheet1!C:E,2,FALSE) -> #N/A | J5: =VLOOKUP(G5,Sheet1!C:E,3,FALSE) -> #N/A | K5: 2、本科阶段全部课程成绩单（含单科成绩和专业，如图示），必须所有学分修满； | L5: 江西教育考试院http://www.jxeea.cn/col/col26644/index.html打印成绩单
A6: 3 | F6: =VLOOKUP(E6,Sheet1!A:B,2,FALSE) -> #N/A | H6: =VLOOKUP(G6,Sheet1!C:E,2,FALSE) -> #N/A | J6: =VLOOKUP(G6,Sheet1!C:E,3,FALSE) -> #N/A | K6: 3、相关材料扫描或拍照，通过电子邮件发送至hjjxjy@qq.com）申请办理。
A7: 4 | F7: =VLOOKUP(E7,Sheet1!A:B,2,FALSE) -> #N/A | H7: =VLOOKUP(G7,Sheet1!C:E,2,FALSE) -> #N/A | J7: =VLOOKUP(G7,Sheet1!C:E,3,FALSE) -> #N/A
F8: =VLOOKUP(E8,Sheet1!A:B,2,FALSE) -> #N/A | H8: =VLOOKUP(G8,Sheet1!C:E,2,FALSE) -> #N/A | J8: =VLOOKUP(G8,Sheet1!C:E,3,FALSE) -> #N/A
F9: =VLOOKUP(E9,Sheet1!A:B,2,FALSE) -> #N/A | H9: =VLOOKUP(G9,Sheet1!C:E,2,FALSE) -> #N/A | J9: =VLOOKUP(G9,Sheet1!C:E,3,FALSE) -> #N/A | K9: 办理自学考试实践报名所需材料：
F10: =VLOOKUP(E10,Sheet1!A:B,2,FALSE) -> #N/A | H10: =VLOOKUP(G10,Sheet1!C:E,2,FALSE) -> #N/A | J10: =VLOOKUP(G10,Sheet1!C:E,3,FALSE) -> #N/A
F11: =VLOOKUP(E11,Sheet1!A:B,2,FALSE) -> #N/A | H11: =VLOOKUP(G11,Sheet1!C:E,2,FALSE) -> #N/A | J11: =VLOOKUP(G11,Sheet1!C:E,3,FALSE) -> #N/A | K11: 2、本科阶段全部课程成绩单（含单科成绩和专业，如图示）； | L11: 江西教育考试院http://www.jxeea.cn/col/col26644/index.html打印成绩单
F12: =VLOOKUP(E12,Sheet1!A:B,2,FALSE) -> #N/A | H12: =VLOOKUP(G12,Sheet1!C:E,2,FALSE) -> #N/A | J12: =VLOOKUP(G12,Sheet1!C:E,3,FALSE) -> #N/A | K12: 3、相关材料扫描或拍照，通过电子邮件发送至hjjxjy@qq.com）申请办理。
F13: =VLOOKUP(E13,Sheet1!A:B,2,FALSE) -> #N/A | H13: =VLOOKUP(G13,Sheet1!C:E,2,FALSE) -> #N/A | J13: =VLOOKUP(G13,Sheet1!C:E,3,FALSE) -> #N/A
F14: =VLOOKUP(E14,Sheet1!A:B,2,FALSE) -> #N/A | H14: =VLOOKUP(G14,Sheet1!C:E,2,FALSE) -> #N/A | J14: =VLOOKUP(G14,Sheet1!C:E,3,FALSE) -> #N/A
F15: =VLOOKUP(E15,Sheet1!A:B,2,FALSE) -> #N/A | H15: =VLOOKUP(G15,Sheet1!C:E,2,FALSE) -> #N/A | J15: =VLOOKUP(G15,Sheet1!C:E,3,FALSE) -> #N/A
F16: =VLOOKUP(E16,Sheet1!A:B,2,FALSE) -> #N/A | H16: =VLOOKUP(G16,Sheet1!C:E,2,FALSE) -> #N/A | J16: =VLOOKUP(G16,Sheet1!C:E,3,FALSE) -> #N/A
F17: =VLOOKUP(E17,Sheet1!A:B,2,FALSE) -> #N/A | H17: =VLOOKUP(G17,Sheet1!C:E,2,FALSE) -> #N/A | J17: =VLOOKUP(G17,Sheet1!C:E,3,FALSE) -> #N/A
F18: =VLOOKUP(E18,Sheet1!A:B,2,FALSE) -> #N/A | H18: =VLOOKUP(G18,Sheet1!C:E,2,FALSE) -> #N/A | J18: =VLOOKUP(G18,Sheet1!C:E,3,FALSE) -> #N/A
F19: =VLOOKUP(E19,Sheet1!A:B,2,FALSE) -> #N/A | H19: =VLOOKUP(G19,Sheet1!C:E,2,FALSE) -> #N/A | J19: =VLOOKUP(G19,Sheet1!C:E,3,FALSE) -> #N/A
F20: =VLOOKUP(E20,Sheet1!A:B,2,FALSE) -> #N/A | H20: =VLOOKUP(G20,Sheet1!C:E,2,FALSE) -> #N/A | J20: =VLOOKUP(G20,Sheet1!C:E,3,FALSE) -> #N/A
F21: =VLOOKUP(E21,Sheet1!A:B,2,FALSE) -> #N/A | H21: =VLOOKUP(G21,Sheet1!C:E,2,FALSE) -> #N/A | J21: =VLOOKUP(G21,Sheet1!C:E,3,FALSE) -> #N/A
F22: =VLOOKUP(E22,Sheet1!A:B,2,FALSE) -> #N/A | H22: =VLOOKUP(G22,Sheet1!C:E,2,FALSE) -> #N/A | J22: =VLOOKUP(G22,Sheet1!C:E,3,FALSE) -> #N/A
